BEGIN:VCALENDAR
VERSION:2.0
PRODID:-//Big Fatty&#039;s BBQ - ECPv6.15.20//NONSGML v1.0//EN
CALSCALE:GREGORIAN
METHOD:PUBLISH
X-ORIGINAL-URL:https://www.bigfattybbq.com
X-WR-CALDESC:Events for Big Fatty&#039;s BBQ
REFRESH-INTERVAL;VALUE=DURATION:PT1H
X-Robots-Tag:noindex
X-PUBLISHED-TTL:PT1H
BEGIN:VTIMEZONE
TZID:UTC
BEGIN:STANDARD
TZOFFSETFROM:+0000
TZOFFSETTO:+0000
TZNAME:UTC
DTSTART:20190101T000000
END:STANDARD
END:VTIMEZONE
BEGIN:VEVENT
DTSTART;TZID=UTC:20201219T180000
DTEND;TZID=UTC:20201219T203000
DTSTAMP:20260424T102807
CREATED:20200220T180755Z
LAST-MODIFIED:20200220T180755Z
UID:1075-1608400800-1608409800@www.bigfattybbq.com
SUMMARY:Jim Yeager
DESCRIPTION:
URL:https://www.bigfattybbq.com/event/jim-yeager-25/
END:VEVENT
BEGIN:VEVENT
DTSTART;TZID=UTC:20201218T180000
DTEND;TZID=UTC:20201218T203000
DTSTAMP:20260424T102807
CREATED:20200220T180720Z
LAST-MODIFIED:20200220T180720Z
UID:1074-1608314400-1608323400@www.bigfattybbq.com
SUMMARY:Dave Clark
DESCRIPTION:
URL:https://www.bigfattybbq.com/event/dave-clark-28/
END:VEVENT
BEGIN:VEVENT
DTSTART;TZID=UTC:20201212T180000
DTEND;TZID=UTC:20201212T203000
DTSTAMP:20260424T102807
CREATED:20200220T180633Z
LAST-MODIFIED:20200220T180633Z
UID:1073-1607796000-1607805000@www.bigfattybbq.com
SUMMARY:Loose Cannons
DESCRIPTION:
URL:https://www.bigfattybbq.com/event/loose-cannons-11/
END:VEVENT
BEGIN:VEVENT
DTSTART;TZID=UTC:20201211T180000
DTEND;TZID=UTC:20201211T203000
DTSTAMP:20260424T102807
CREATED:20200220T180551Z
LAST-MODIFIED:20200220T180551Z
UID:1072-1607709600-1607718600@www.bigfattybbq.com
SUMMARY:John Lackard
DESCRIPTION:
URL:https://www.bigfattybbq.com/event/john-lackard-35/
END:VEVENT
BEGIN:VEVENT
DTSTART;TZID=UTC:20201205T180000
DTEND;TZID=UTC:20201205T203000
DTSTAMP:20260424T102807
CREATED:20200220T180308Z
LAST-MODIFIED:20200220T180308Z
UID:1070-1607191200-1607200200@www.bigfattybbq.com
SUMMARY:Rose Hip Jam
DESCRIPTION:
URL:https://www.bigfattybbq.com/event/rose-hip-jam-10/
END:VEVENT
BEGIN:VEVENT
DTSTART;TZID=UTC:20201128T180000
DTEND;TZID=UTC:20201128T203000
DTSTAMP:20260424T102807
CREATED:20200220T180131Z
LAST-MODIFIED:20200220T180131Z
UID:1068-1606586400-1606595400@www.bigfattybbq.com
SUMMARY:Rich Hackett
DESCRIPTION:
URL:https://www.bigfattybbq.com/event/rich-hackett-4/
END:VEVENT
BEGIN:VEVENT
DTSTART;TZID=UTC:20201114T180000
DTEND;TZID=UTC:20201114T203000
DTSTAMP:20260424T102807
CREATED:20200220T180051Z
LAST-MODIFIED:20200220T180051Z
UID:1067-1605376800-1605385800@www.bigfattybbq.com
SUMMARY:Arthur James
DESCRIPTION:
URL:https://www.bigfattybbq.com/event/arthur-james-14/
END:VEVENT
BEGIN:VEVENT
DTSTART;TZID=UTC:20201113T180000
DTEND;TZID=UTC:20201113T203000
DTSTAMP:20260424T102807
CREATED:20200220T175940Z
LAST-MODIFIED:20200220T175940Z
UID:1066-1605290400-1605299400@www.bigfattybbq.com
SUMMARY:John Lackard
DESCRIPTION:
URL:https://www.bigfattybbq.com/event/john-lackard-34/
END:VEVENT
BEGIN:VEVENT
DTSTART;TZID=UTC:20201107T180000
DTEND;TZID=UTC:20201107T203000
DTSTAMP:20260424T102807
CREATED:20200220T165134Z
LAST-MODIFIED:20200220T165134Z
UID:1064-1604772000-1604781000@www.bigfattybbq.com
SUMMARY:Dave Clark
DESCRIPTION:
URL:https://www.bigfattybbq.com/event/dave-clark-27/
END:VEVENT
BEGIN:VEVENT
DTSTART;TZID=UTC:20201106T180000
DTEND;TZID=UTC:20201106T203000
DTSTAMP:20260424T102807
CREATED:20200220T165102Z
LAST-MODIFIED:20200220T165102Z
UID:1063-1604685600-1604694600@www.bigfattybbq.com
SUMMARY:First Friday
DESCRIPTION:
URL:https://www.bigfattybbq.com/event/first-friday-18/
END:VEVENT
BEGIN:VEVENT
DTSTART;TZID=UTC:20201030T180000
DTEND;TZID=UTC:20201030T203000
DTSTAMP:20260424T102807
CREATED:20200220T164902Z
LAST-MODIFIED:20200220T164902Z
UID:1061-1604080800-1604089800@www.bigfattybbq.com
SUMMARY:John Lackard
DESCRIPTION:
URL:https://www.bigfattybbq.com/event/john-lackard-33/
END:VEVENT
BEGIN:VEVENT
DTSTART;TZID=UTC:20201024T180000
DTEND;TZID=UTC:20201024T203000
DTSTAMP:20260424T102807
CREATED:20200220T164825Z
LAST-MODIFIED:20200220T164825Z
UID:1060-1603562400-1603571400@www.bigfattybbq.com
SUMMARY:Ruby Street
DESCRIPTION:
URL:https://www.bigfattybbq.com/event/ruby-street-3/
END:VEVENT
BEGIN:VEVENT
DTSTART;TZID=UTC:20201017T180000
DTEND;TZID=UTC:20201017T203000
DTSTAMP:20260424T102807
CREATED:20200220T164746Z
LAST-MODIFIED:20200220T164746Z
UID:1059-1602957600-1602966600@www.bigfattybbq.com
SUMMARY:Jim Yeager
DESCRIPTION:
URL:https://www.bigfattybbq.com/event/jim-yeager-24/
END:VEVENT
BEGIN:VEVENT
DTSTART;TZID=UTC:20201016T180000
DTEND;TZID=UTC:20201016T203000
DTSTAMP:20260424T102807
CREATED:20200220T164712Z
LAST-MODIFIED:20200220T164712Z
UID:1058-1602871200-1602880200@www.bigfattybbq.com
SUMMARY:Arthur James
DESCRIPTION:
URL:https://www.bigfattybbq.com/event/arthur-james-13/
END:VEVENT
BEGIN:VEVENT
DTSTART;TZID=UTC:20201009T180000
DTEND;TZID=UTC:20201009T203000
DTSTAMP:20260424T102807
CREATED:20200220T164637Z
LAST-MODIFIED:20200220T164637Z
UID:1057-1602266400-1602275400@www.bigfattybbq.com
SUMMARY:Dave Clark
DESCRIPTION:
URL:https://www.bigfattybbq.com/event/dave-clark-26/
END:VEVENT
BEGIN:VEVENT
DTSTART;TZID=UTC:20201003T180000
DTEND;TZID=UTC:20201003T203000
DTSTAMP:20260424T102807
CREATED:20200220T164603Z
LAST-MODIFIED:20200220T164603Z
UID:1056-1601748000-1601757000@www.bigfattybbq.com
SUMMARY:Rose Hip Jam
DESCRIPTION:
URL:https://www.bigfattybbq.com/event/rose-hip-jam-9/
END:VEVENT
BEGIN:VEVENT
DTSTART;TZID=UTC:20201002T180000
DTEND;TZID=UTC:20201002T203000
DTSTAMP:20260424T102807
CREATED:20200220T164951Z
LAST-MODIFIED:20200220T164951Z
UID:1062-1601661600-1601670600@www.bigfattybbq.com
SUMMARY:First Friday
DESCRIPTION:
URL:https://www.bigfattybbq.com/event/first-friday-17/
END:VEVENT
BEGIN:VEVENT
DTSTART;TZID=UTC:20200926T180000
DTEND;TZID=UTC:20200926T203000
DTSTAMP:20260424T102807
CREATED:20200220T164245Z
LAST-MODIFIED:20200220T164245Z
UID:1055-1601143200-1601152200@www.bigfattybbq.com
SUMMARY:Rich Hackett
DESCRIPTION:
URL:https://www.bigfattybbq.com/event/rich-hackett-3/
END:VEVENT
BEGIN:VEVENT
DTSTART;TZID=UTC:20200918T180000
DTEND;TZID=UTC:20200918T203000
DTSTAMP:20260424T102807
CREATED:20200220T164206Z
LAST-MODIFIED:20200220T164206Z
UID:1054-1600452000-1600461000@www.bigfattybbq.com
SUMMARY:Dave Clark
DESCRIPTION:
URL:https://www.bigfattybbq.com/event/dave-clark-25/
END:VEVENT
BEGIN:VEVENT
DTSTART;TZID=UTC:20200912T180000
DTEND;TZID=UTC:20200912T203000
DTSTAMP:20260424T102807
CREATED:20200220T164108Z
LAST-MODIFIED:20200220T164108Z
UID:1053-1599933600-1599942600@www.bigfattybbq.com
SUMMARY:Lutz & Stone
DESCRIPTION:
URL:https://www.bigfattybbq.com/event/lutz-stone/
END:VEVENT
BEGIN:VEVENT
DTSTART;TZID=UTC:20200905T180000
DTEND;TZID=UTC:20200905T203000
DTSTAMP:20260424T102807
CREATED:20200220T163956Z
LAST-MODIFIED:20200220T163956Z
UID:1052-1599328800-1599337800@www.bigfattybbq.com
SUMMARY:Loose Cannons
DESCRIPTION:
URL:https://www.bigfattybbq.com/event/loose-cannons-10/
END:VEVENT
BEGIN:VEVENT
DTSTART;TZID=UTC:20200904T180000
DTEND;TZID=UTC:20200904T203000
DTSTAMP:20260424T102807
CREATED:20191028T194811Z
LAST-MODIFIED:20200220T152530Z
UID:985-1599242400-1599251400@www.bigfattybbq.com
SUMMARY:Revels North
DESCRIPTION:
URL:https://www.bigfattybbq.com/event/revels-north-2020-09-04/
CATEGORIES:Music
END:VEVENT
BEGIN:VEVENT
DTSTART;TZID=UTC:20200828T180000
DTEND;TZID=UTC:20200828T203000
DTSTAMP:20260424T102807
CREATED:20200220T163747Z
LAST-MODIFIED:20200220T163747Z
UID:1051-1598637600-1598646600@www.bigfattybbq.com
SUMMARY:John Lackard
DESCRIPTION:
URL:https://www.bigfattybbq.com/event/john-lackard-32/
END:VEVENT
BEGIN:VEVENT
DTSTART;TZID=UTC:20200815T180000
DTEND;TZID=UTC:20200815T203000
DTSTAMP:20260424T102807
CREATED:20200220T163650Z
LAST-MODIFIED:20200220T163650Z
UID:1050-1597514400-1597523400@www.bigfattybbq.com
SUMMARY:Jim Yeager
DESCRIPTION:
URL:https://www.bigfattybbq.com/event/jim-yeager-23/
END:VEVENT
BEGIN:VEVENT
DTSTART;TZID=UTC:20200725T180000
DTEND;TZID=UTC:20200725T203000
DTSTAMP:20260424T102807
CREATED:20200220T162622Z
LAST-MODIFIED:20200220T162622Z
UID:1049-1595700000-1595709000@www.bigfattybbq.com
SUMMARY:Rich Hackett
DESCRIPTION:
URL:https://www.bigfattybbq.com/event/rich-hackett-2/
END:VEVENT
BEGIN:VEVENT
DTSTART;TZID=UTC:20200724T180000
DTEND;TZID=UTC:20200724T203000
DTSTAMP:20260424T102807
CREATED:20200220T162453Z
LAST-MODIFIED:20200220T162453Z
UID:1048-1595613600-1595622600@www.bigfattybbq.com
SUMMARY:Arthur James
DESCRIPTION:
URL:https://www.bigfattybbq.com/event/arthur-james-12/
END:VEVENT
BEGIN:VEVENT
DTSTART;TZID=UTC:20200711T180000
DTEND;TZID=UTC:20200711T203000
DTSTAMP:20260424T102807
CREATED:20200220T162402Z
LAST-MODIFIED:20200220T162402Z
UID:1047-1594490400-1594499400@www.bigfattybbq.com
SUMMARY:Dave Clark
DESCRIPTION:
URL:https://www.bigfattybbq.com/event/dave-clark-24/
END:VEVENT
BEGIN:VEVENT
DTSTART;TZID=UTC:20200710T180000
DTEND;TZID=UTC:20200710T203000
DTSTAMP:20260424T102807
CREATED:20200220T162252Z
LAST-MODIFIED:20200220T162309Z
UID:1046-1594404000-1594413000@www.bigfattybbq.com
SUMMARY:Stone - Latz
DESCRIPTION:
URL:https://www.bigfattybbq.com/event/stone-latz/
END:VEVENT
BEGIN:VEVENT
DTSTART;TZID=UTC:20200704T180000
DTEND;TZID=UTC:20200704T203000
DTSTAMP:20260424T102807
CREATED:20200220T162142Z
LAST-MODIFIED:20200220T162142Z
UID:1045-1593885600-1593894600@www.bigfattybbq.com
SUMMARY:Rose Hip Jam
DESCRIPTION:
URL:https://www.bigfattybbq.com/event/rose-hip-jam-8/
END:VEVENT
BEGIN:VEVENT
DTSTART;TZID=UTC:20200703T180000
DTEND;TZID=UTC:20200703T203000
DTSTAMP:20260424T102807
CREATED:20200220T162105Z
LAST-MODIFIED:20200220T162105Z
UID:1044-1593799200-1593808200@www.bigfattybbq.com
SUMMARY:First Friday
DESCRIPTION:
URL:https://www.bigfattybbq.com/event/first-friday-16/
END:VEVENT
END:VCALENDAR